BEGIN:VCALENDAR
VERSION:2.0
PRODID:-//Maryland Health Benefit Exchange - ECPv6.15.4//NONSGML v1.0//EN
CALSCALE:GREGORIAN
METHOD:PUBLISH
X-ORIGINAL-URL:https://www.marylandhbe.com
X-WR-CALDESC:Events for Maryland Health Benefit Exchange
REFRESH-INTERVAL;VALUE=DURATION:PT1H
X-Robots-Tag:noindex
X-PUBLISHED-TTL:PT1H
BEGIN:VTIMEZONE
TZID:America/New_York
BEGIN:DAYLIGHT
TZOFFSETFROM:-0500
TZOFFSETTO:-0400
TZNAME:EDT
DTSTART:20250309T070000
END:DAYLIGHT
BEGIN:STANDARD
TZOFFSETFROM:-0400
TZOFFSETTO:-0500
TZNAME:EST
DTSTART:20251102T060000
END:STANDARD
END:VTIMEZONE
BEGIN:VEVENT
DTSTART;TZID=America/New_York:20250205T080000
DTEND;TZID=America/New_York:20250307T110000
DTSTAMP:20260423T020739
CREATED:20250206T135526Z
LAST-MODIFIED:20250206T135541Z
UID:10000527-1738742400-1741345200@www.marylandhbe.com
SUMMARY:Akamai Subscription Renewal IFB
DESCRIPTION:Solicitation # BPM048343\nTitle: Akamai Subscription Renewal IFB\nIssue Date: 2/5/2025\nClosing Date: 3/7/2025 at 11:00 a.m. ES\nAkamai Subscription Renewal IFB\nPre-Bid Conference Response Form
URL:https://www.marylandhbe.com/event/akamai-subscription-renewal-ifb/
CATEGORIES:Solicitations
END:VEVENT
BEGIN:VEVENT
DTSTART;TZID=America/New_York:20250205T080000
DTEND;TZID=America/New_York:20250307T130000
DTSTAMP:20260423T020739
CREATED:20250206T135909Z
LAST-MODIFIED:20250206T135943Z
UID:10000528-1738742400-1741352400@www.marylandhbe.com
SUMMARY:Kong Mesh Subscription IFB
DESCRIPTION:Solicitation # BPM048350\nTitle: Kong Mesh Subscription IFB\nIssue Date: 2/5/2025\nClosing Date: 3/7/2025 at 1:00 p.m. EST\nKong Mesh Subscription IFB\nPre-Bid Conference Response Form
URL:https://www.marylandhbe.com/event/kong-mesh-subscription-ifb/
CATEGORIES:Solicitations
END:VEVENT
BEGIN:VEVENT
DTSTART;TZID=America/New_York:20250206T080000
DTEND;TZID=America/New_York:20250310T110000
DTSTAMP:20260423T020739
CREATED:20250206T140429Z
LAST-MODIFIED:20250206T140527Z
UID:10000529-1738828800-1741604400@www.marylandhbe.com
SUMMARY:Splunk Cloud Subscription Renewal IFB
DESCRIPTION:Solicitation # BPM048355\nTitle: Splunk Cloud Subscription Renewal IFB\nIssue Date: 2/6/2025\nClosing Date: 3/10/2025 at 11:00 a.m. EST\nSplunk Cloud Subscription Renewal IFB\nPre-Bid Conference Response Form
URL:https://www.marylandhbe.com/event/splunk-cloud-subscription-renewal-ifb-3/
CATEGORIES:Solicitations
END:VEVENT
BEGIN:VEVENT
DTSTART;TZID=America/New_York:20250207T080000
DTEND;TZID=America/New_York:20250310T130000
DTSTAMP:20260423T020739
CREATED:20250207T144026Z
LAST-MODIFIED:20250207T144237Z
UID:10000531-1738915200-1741611600@www.marylandhbe.com
SUMMARY:Contrast Subscription IFB
DESCRIPTION:Solicitation # BPM047969\nTitle: Contrast Subscription IFB\nIssue Date: 2/7/2025\nClosing Date: 3/10/2025 at 1:00 p.m. EST\nContrast Subscription IFB\nPre-Bid Conference Response Form
URL:https://www.marylandhbe.com/event/contrast-subscription-ifb/
CATEGORIES:Solicitations
END:VEVENT
BEGIN:VEVENT
DTSTART;TZID=America/New_York:20250207T080000
DTEND;TZID=America/New_York:20250311T110000
DTSTAMP:20260423T020739
CREATED:20250206T180056Z
LAST-MODIFIED:20250206T180217Z
UID:10000530-1738915200-1741690800@www.marylandhbe.com
SUMMARY:Corticon Maintenance Renewal IFB
DESCRIPTION:Solicitation # BPM048344\nTitle: Corticon Maintenance Renewal IFB\nIssue Date: 2/7/2025\nClosing Date: 3/11/2025 at 11:00 a.m. EST\nCorticon Maintenance Renewal IFB\nPre-Bid Conference Response Form
URL:https://www.marylandhbe.com/event/corticon-maintenance-renewal-ifb-5/
CATEGORIES:Solicitations
END:VEVENT
BEGIN:VEVENT
DTSTART;TZID=America/New_York:20250228T080000
DTEND;TZID=America/New_York:20250331T110000
DTSTAMP:20260423T020739
CREATED:20250227T141352Z
LAST-MODIFIED:20250227T141446Z
UID:10000533-1740729600-1743418800@www.marylandhbe.com
SUMMARY:EDBPostGres Subscription Renewal IFB
DESCRIPTION:Solicitation # BPM048661\nTitle: EDBPostGres Subscription Renewal IFB\nIssue Date: 2/28/2025\nClosing Date: 3/31/2025 at 11:00 a.m. EST\nEDBPostGres Subscription Renewal IFB\nPre-Bid Conference Response Form
URL:https://www.marylandhbe.com/event/edbpostgres-subscription-renewal-ifb/
CATEGORIES:Solicitations
END:VEVENT
BEGIN:VEVENT
DTSTART;TZID=America/New_York:20250307T080000
DTEND;TZID=America/New_York:20250328T110000
DTSTAMP:20260423T020739
CREATED:20250307T155414Z
LAST-MODIFIED:20250307T155540Z
UID:10000534-1741334400-1743159600@www.marylandhbe.com
SUMMARY:Akamai Subscription Renewal Amendment #1
DESCRIPTION:Solicitation # BPM048343\nTitle: Akamai Subscription Renewal IFB\nIssue Date: 3/7/2025\nClosing Date: 3/28/2025 at 11:00 a.m. EST\nAkamai Subscription Renewal Amendment #1
URL:https://www.marylandhbe.com/event/akamai-subscription-renewal-amendment-1/
CATEGORIES:Solicitations
END:VEVENT
END:VCALENDAR