BEGIN:VCALENDAR
VERSION:2.0
PRODID:-//Maryland Health Benefit Exchange - ECPv6.15.4//NONSGML v1.0//EN
CALSCALE:GREGORIAN
METHOD:PUBLISH
X-ORIGINAL-URL:https://www.marylandhbe.com
X-WR-CALDESC:Events for Maryland Health Benefit Exchange
REFRESH-INTERVAL;VALUE=DURATION:PT1H
X-Robots-Tag:noindex
X-PUBLISHED-TTL:PT1H
BEGIN:VTIMEZONE
TZID:America/New_York
BEGIN:DAYLIGHT
TZOFFSETFROM:-0500
TZOFFSETTO:-0400
TZNAME:EDT
DTSTART:20230312T070000
END:DAYLIGHT
BEGIN:STANDARD
TZOFFSETFROM:-0400
TZOFFSETTO:-0500
TZNAME:EST
DTSTART:20231105T060000
END:STANDARD
BEGIN:DAYLIGHT
TZOFFSETFROM:-0500
TZOFFSETTO:-0400
TZNAME:EDT
DTSTART:20240310T070000
END:DAYLIGHT
BEGIN:STANDARD
TZOFFSETFROM:-0400
TZOFFSETTO:-0500
TZNAME:EST
DTSTART:20241103T060000
END:STANDARD
END:VTIMEZONE
BEGIN:VEVENT
DTSTART;TZID=America/New_York:20231215T080000
DTEND;TZID=America/New_York:20240130T100000
DTSTAMP:20260425T172417
CREATED:20231215T164512Z
LAST-MODIFIED:20240126T145513Z
UID:10000461-1702627200-1706608800@www.marylandhbe.com
SUMMARY:MHBE Printing Services RFP
DESCRIPTION:Solicitation # BPM040521\nTitle: MHBE Printing Services RFP\nIssue Date: 12/15/2023\nClosing Date: 1/30/2024 @ 10:00 AM EST\nPrinting Services RFP\nPrinting FY RFP Financial Proposal (Amended)\nPrinting Services – Non Exchange Entity Agreement\nQuestions and Answers #1\nQuestions and Answers #1 – Amendment\nQuestions and Answers #2\nQuestions and Answers #3 \nPre-Bid Conference –  January 8th\, 2024 @ 10:00 AM \nMonday\, January 8\, 2024 · 10:00 – 11:00am\nTime zone: America/New_York\nPre-Proposal Conference – Printing Services\nGoogle Meet joining info\nVideo call link: https://meet.google.com/dek-jqvt-iot\nOr dial: ‪(US) +1 904-580-8634‬ PIN: ‪904 897 058‬#\nMore phone numbers: https://tel.meet/dek-jqvt-iot?pin=9927122882351
URL:https://www.marylandhbe.com/event/mhbe-printing-services-rfp/
CATEGORIES:Solicitations
END:VEVENT
BEGIN:VEVENT
DTSTART;TZID=America/New_York:20231221T080000
DTEND;TZID=America/New_York:20240122T110000
DTSTAMP:20260425T172417
CREATED:20231221T170208Z
LAST-MODIFIED:20231221T170542Z
UID:10000462-1703145600-1705921200@www.marylandhbe.com
SUMMARY:Databricks Subscription IFB
DESCRIPTION:Solicitation # BPM041185\nTitle: Databricks Subscription IFB\nIssue Date: 12/21/2023\nClosing Date: 1/22/2024 at 11:00 a.m. EST\nDatabricks Subscription IFB\nPre-Bid Conference Response Form
URL:https://www.marylandhbe.com/event/databricks-subscription-ifb/
CATEGORIES:Solicitations
END:VEVENT
BEGIN:VEVENT
DTSTART;TZID=America/New_York:20240103T080000
DTEND;TZID=America/New_York:20240208T110000
DTSTAMP:20260425T172417
CREATED:20240103T201614Z
LAST-MODIFIED:20240103T202008Z
UID:10000463-1704268800-1707390000@www.marylandhbe.com
SUMMARY:Zscaler Subscription Renewal IFB (Revised)
DESCRIPTION:Solicitation # BPM040746\nTitle: Zscaler Subscription Renewal IFB (Revised)\nIssue Date: 1/3/2024\nClosing Date: 2/8/2024 at 11:00 a.m. EST\nZscaler Licenses Subscription Renewal IFB BPM040746 (Revised)\nAmendment #1 – Zscaler Subscription Renewal BPM040746
URL:https://www.marylandhbe.com/event/zscaler-subscription-renewal-ifb-revised/
CATEGORIES:Solicitations
END:VEVENT
BEGIN:VEVENT
DTSTART;TZID=America/New_York:20240104T080000
DTEND;TZID=America/New_York:20240122T110000
DTSTAMP:20260425T172417
CREATED:20240104T181432Z
LAST-MODIFIED:20240104T182101Z
UID:10000464-1704355200-1705921200@www.marylandhbe.com
SUMMARY:Databricks Subscription IFB - Amendment #1
DESCRIPTION:Solicitation # BPM041185\nTitle: Databricks Subscription IFB\nIssue Date: 1/4/2024\nClosing Date: 1/22/2024 at 11:00 a.m. EST\nDatabricks Subscription IFB BPM041185 (Revised)\nAmendment #1 – Databricks Subscription BPM041185
URL:https://www.marylandhbe.com/event/databricks-subscription-ifb-amendment-1/
CATEGORIES:Solicitations
END:VEVENT
BEGIN:VEVENT
DTSTART;TZID=America/New_York:20240104T080000
DTEND;TZID=America/New_York:20240212T110000
DTSTAMP:20260425T172417
CREATED:20240104T181847Z
LAST-MODIFIED:20240104T182042Z
UID:10000465-1704355200-1707735600@www.marylandhbe.com
SUMMARY:iText Maintenance and Support Renewal IFB
DESCRIPTION:Solicitation # BPM041333\nTitle: iText Maintenance and Support IFB\nIssue Date: 1/4/2024\nClosing Date: 2/12/2024 at 11:00 a.m. EST\niText Maintenance and Support IFB\nPre-Bid Conference Response Form
URL:https://www.marylandhbe.com/event/itext-maintenance-and-support-renewal-ifb/
CATEGORIES:Solicitations
END:VEVENT
BEGIN:VEVENT
DTSTART;TZID=America/New_York:20240116T080000
DTEND;TZID=America/New_York:20240228T110000
DTSTAMP:20260425T172417
CREATED:20240111T145242Z
LAST-MODIFIED:20240215T200801Z
UID:10000466-1705392000-1709118000@www.marylandhbe.com
SUMMARY:SPLUNK Cloud Subscription Renewal IFB
DESCRIPTION:Solicitation # BPM041334\nTitle: SPLUNK Cloud Subscription Renewal IFB\nIssue Date: 1/16/2024\nClosing Date: 2/28/2024 at 11:00 a.m. EST\nSPLUNK Cloud Subscription Renewal IFB\nPre-Bid Conference Response Form
URL:https://www.marylandhbe.com/event/splunk-cloud-subscription-renewal-ifb-2/
CATEGORIES:Solicitations
END:VEVENT
BEGIN:VEVENT
DTSTART;TZID=America/New_York:20240125T080000
DTEND;TZID=America/New_York:20240229T110000
DTSTAMP:20260425T172417
CREATED:20240125T141941Z
LAST-MODIFIED:20240125T142541Z
UID:10000469-1706169600-1709204400@www.marylandhbe.com
SUMMARY:Camunda Subscription IFB
DESCRIPTION:Solicitation # BPM041979\nTitle: Camunda Subscription IFB\nIssue Date: 1/25/2024\nClosing Date: 2/29/2024 at 11:00 a.m. EST\nCamunda Subscription IFB\nPre-Bid Conference Response Form
URL:https://www.marylandhbe.com/event/camunda-subscription/
CATEGORIES:Solicitations
END:VEVENT
BEGIN:VEVENT
DTSTART;TZID=America/New_York:20240126T120000
DTEND;TZID=America/New_York:20240126T130000
DTSTAMP:20260425T172417
CREATED:20240116T192939Z
LAST-MODIFIED:20240116T193410Z
UID:10000467-1706270400-1706274000@www.marylandhbe.com
SUMMARY:Health Policy Speaker Series: Behavioral Economics and Health Insurance – Applications for Improving Consumer Choice
DESCRIPTION:Health Policy Speaker Series (Virtual event) \nDate: Friday\, January 26\, 2024\nTime: 12:00 pm – 1:00 pm\nLocation: Virtual (see virtual meeting link below) \nEvent Details: The speaker series is an opportunity to learn from experts and engage in discussion on a variety of ongoing or emerging policy issues relevant to our work at the Exchange. \nTopic: Behavioral Economics and Health Insurance – Applications for Improving Consumer Choice \nGuest Speaker: Alan Monheit\, Professor Emeritus of Health Economics and Public Policy at Rutgers School of Public Health \nVirtual Meeting Link (Google Meet):\nMHBE Health Policy Speaker Series\nFriday\, January 26 · 12:00 – 1:00pm\nTime zone: America/New York\nGoogle Meet joining info\n• Video call link: https://meet.google.com/uji-iccv-jgp\n• Or dial: (US) +1 413-729-2644 PIN: 746 672 795#\n• More phone numbers: https://tel.meet/uji-iccv-jgp?pin=3531344125612 \nContact Amelia Marcus\, amelia.marcus@maryland.gov with any questions
URL:https://www.marylandhbe.com/event/health-policy-speaker-series-behavioral-economics-and-health-insurance-applications-for-improving-consumer-choice/
CATEGORIES:Board Meeting
ORGANIZER;CN="Amelia Marcus":MAILTO:amelia.marcus@maryland.gov
END:VEVENT
END:VCALENDAR