BEGIN:VCALENDAR
VERSION:2.0
PRODID:-//Maryland Health Benefit Exchange - ECPv6.15.4//NONSGML v1.0//EN
CALSCALE:GREGORIAN
METHOD:PUBLISH
X-WR-CALNAME:Maryland Health Benefit Exchange
X-ORIGINAL-URL:https://www.marylandhbe.com
X-WR-CALDESC:Events for Maryland Health Benefit Exchange
REFRESH-INTERVAL;VALUE=DURATION:PT1H
X-Robots-Tag:noindex
X-PUBLISHED-TTL:PT1H
BEGIN:VTIMEZONE
TZID:America/New_York
BEGIN:DAYLIGHT
TZOFFSETFROM:-0500
TZOFFSETTO:-0400
TZNAME:EDT
DTSTART:20220313T070000
END:DAYLIGHT
BEGIN:STANDARD
TZOFFSETFROM:-0400
TZOFFSETTO:-0500
TZNAME:EST
DTSTART:20221106T060000
END:STANDARD
END:VTIMEZONE
BEGIN:VEVENT
DTSTART;TZID=America/New_York:20220308T080000
DTEND;TZID=America/New_York:20220421T170000
DTSTAMP:20260425T114458
CREATED:20220308T195146Z
LAST-MODIFIED:20220407T150752Z
UID:10000360-1646726400-1650560400@www.marylandhbe.com
SUMMARY:Request for Applications for Connector Organizations
DESCRIPTION:Title: Request for Applications for Connector Organizations\nIssue Date: 3/08/2022\nClosing Date: 04/21/2022 at 5:00 p.m. EST\nRequest for Applications for Connector Organizations\nCERFA Questions 1\nCERFA Questions 2\nCERFA Questions 3\nLetter of Intent: Capital North – Vaccine Hunters\nLetter of Intent: Capital North – Department of Health and Human Services\nLetter of Intent: Capital South – Vaccine Hunters\nLetter of Intent: Capital South – PGCDSS\nLetter of Intent: Far Western – AHEC West\nLetter of Intent: Central – Community Support\nLetter of Intent: Central – HCAM\nLetter of Intent: Central – STAR\nLetter of Intent: Lower Shore – UMES\nLetter of Intent: Lower Shore – Worcester County Health Department\nLetter of Intent: Southern – Seedco\nLetter of Intent: Upper Shore – Seedco\nLetter of Intent: Midwest – HCAM\nConnector FY23 Budget Templates\n(Exhibit H) Conflict of Interest Standards & Disclosure FY 2023- fillable\n(Exhibit G) Letter of Intent for CE Partnership FY2023 – fillable\n(Exhibit D) Federal Funds Requirements & Restrictions FY2023 – fillable
URL:https://www.marylandhbe.com/event/request-for-applications-for-connector-organizations/
CATEGORIES:Solicitations
END:VEVENT
BEGIN:VEVENT
DTSTART;TZID=America/New_York:20220311T080000
DTEND;TZID=America/New_York:20220426T130000
DTSTAMP:20260425T114458
CREATED:20220311T202524Z
LAST-MODIFIED:20220426T134455Z
UID:10000361-1646985600-1650978000@www.marylandhbe.com
SUMMARY:MHBE Consolidated Service Center RFP
DESCRIPTION:Content: Solicitation # BPM028490Title: MHBE Consolidated Service Center RFPIssue Date: 3/11/2022Closing Date: 4/26/2022 at 1 p.m. EST\n(FNL) Consolidated Service Center RFP & SOW\nAttachment E – Price Proposal Instructions and Form RFP\nA1a: MHBE Consolidated Service Center – Amendment 1\nA1b: MHBE Consolidated Service Center – Amendment 1\, Item 6 – Technology Section 3.2.1\nA1c: Attachment-E Price Proposal Instructions and Form\nA1d: Attachment-E Price Proposal Instructions and Form\nA2) Amendment 2 – Attachment A – Contract Final\nA4) Amendment 4\nQ1: Questions-Responses 1\nQ2a: Questions-Responses 2\nQ2b: Questions-Responses 2 – Question # 14 – Attachment-E Price Proposal Instructions and Form (Amendment)\nQ2c: Questions-Responses 2 – Question # 16 – Call Type Chart Page 38\nQ3) Questions-Responses 3\nQ3a) Questions-Responses 3 – Question # 23 – MHBE IVR Tree\nQ3b) Questions-Responses 3 – Question # 36 – IVR Auto-Transfers\nQ3c) Questions-Responses 3 – Question # 40 – MCO Manual Tracker Procedure\nQ3d) Questions-Responses 3 – Question # 44 – Attestation Scripts\nQ3e) Questions-Responses 3 – Question # 45 – CAW Support Call Volume\nQ4) Sharefile Configuration Instructions End user\nQ5) Questions-Responses 5\nQ6) Questions-Responses 6\nQ7) Questions-Responses 7\nQ8) Questions-Responses 8\nQ9) Questions-Responses 9\nQ10) Questions-Responses 10\nQ11) Questions-Responses 11\nPC1) Pre Proposal Conference Summary\n3C) Attachment-E-Price-Proposal-Instructions-and-Form \n3B) Attachment-E-Price-Proposal-Instructions-and-Form\nAmendment 3 Transition Costs\nTechnical Proposal Redaction\nBAFO Technical Proposal Redaction\n1a) Consolidated Service Center RFP-MDM0031030513\n1a1) MDM0031030513 – MHBE Consolidated Service Center – Amendment 1\n1a2) MDM0031030513 – MHBE Consolidated Service Center – Amendment 2\n1a3) MDM0031030513 – MHBE Consolidated Service Center – Amendment 3\n1a4) MDM0031030513 – MHBE Consolidated Service Center – Amendment 4\n1a5) MDM0031030513 – MHBE Consolidated Service Center – Amendment 5\n1q1) CSC RFP MDM0031031513-Questions-Responses 1\n1q2) CSC RFP MDM0031031513-Questions-Responses 2\n1q3) CSC RFP PMDM0031031513-Questions-Responses 3\n1q3a) Attachment 1 – Question-Response 3 – Maryland Health Connection IVR Flow\n1q3b) Attachment 2 – Question-Response 3 – Maryland Enrollment Broker IVR Flow\n1q4) CSC RFP PMDM0031031513-Questions-Responses 4\n2a2) Redacted-March 29 2017 MHBE Consolidated Service Center System RFP #MDM0031030513 Financial MHBE Redaction\n2b2) MHBE Consolidated Service Center #MDM0031030513 Financial Proposal-BAFO MHBE Redaction\n3. Attachment A – Contract – Fully Executed – No Redaction Needed\n3m1) Maximus -First Modification – BATPhone\n3m2) Maximus – Second Modification – IRN MA\n3m3) Maximus – Third Mod – Change Order Forms – IVR Transfers\n3m4a) Maximus Mod #4 – Executed – IRN MA – BATPhone – Producer Support Line\n3m5) Maximus Fifth Modification – MCO\n3m6) OE7 – Sixth Modification\n3m7a) Seventh Mod – MA Escalations\n3m7b) Change Control Request MAXIMUS Request for Resources\n3m7c) Modification 7 – Change Order Documents\n3m8a) BATPhone OE8 SOW ATTACH A B FY21\n3m8b) Project Request Change BATPhone Program OE8\n3m9) Project Request Change Producer_CAW Extended Hours OE8\n3m10) Maximus Tenth Mod – IRN MA.Enrollment Broker.MCO Tracker\n3m10a) Project Request Change IRN MA Outreach\n3m10b) A-2 – Change Control Request CSC_04012021_02 – IRN MA Outreach\n3m10c) A-3 – Change Control Request CSC_04012021_03 – MAXIMUS MCO Enrollment\n3m11a) Attachment A-2 – Live Chat SOW\n3m11b) Attachment A – Change Control Request_MHBE Live Chat\n3m12a) Attachment A 1- Change Request BATPhone Program OE9\n3m12b) Attachment B 1 – Request Change Producer_CAW Extended Hours OE9\n3m12c) Attachment B 2- Extended Hours Support Producer – Change Order OE9\n3m13a) Maximus Thirteenth Mod – Live Chat\n3m13b) Attachment A-1 – Change Request Number CSC_012222_01CR_MHBE Live Chat Price\n3m13c) Attachment A-2 – SOW Maximus Live Chat Continuation\n3m14a) Maximus Fourteenth Mod – BATPhone\n3m14b) Attachment A – Change Request Form – Maximus OE9 BATPhone Support\n3m14c) Attachment A-1 – CR BATPhone Program OE9_CSC090121_01_Extension\n3m14d) Attachment A-2 – Statement of Work – BATPhone OE9 Extension Attach AB\n3m14e) Attachment B-1 – CR Producer_CAW Extended Hours OE9\n3m14f) Attachment B-2 – SOW – OE9 Extended Hours Support Producer CAC Line
URL:https://www.marylandhbe.com/event/mhbe-consolidated-service-center-rfp-2/
CATEGORIES:Solicitations
END:VEVENT
BEGIN:VEVENT
DTSTART;TZID=America/New_York:20220318T080000
DTEND;TZID=America/New_York:20220418T110000
DTSTAMP:20260425T114458
CREATED:20220318T193018Z
LAST-MODIFIED:20220418T151438Z
UID:10000362-1647590400-1650279600@www.marylandhbe.com
SUMMARY:MHBE Fulfillment Services RFP
DESCRIPTION:Content: Solicitation # BPM028625\nTitle: MHBE Fulfillment Services\nIssue Date: 3/18/2022\nClosing Date: 4/18/2022 at 11:00 a.m. EST\nMHBE Fulfillment Services RFP\nAttachment E – Fulfillment Financial Proposal Form\nAttachment E – Fulfillment Financial Proposal Form A\nAppendix A – Buiness Reply Envelope for MCO\nAppendix B – Enrollment Package Envelope\nAppendix C – HealthChoice Helpline Brochure\nAppendix D – MCO Comparison Chart\nAppendix E – MD Provider Directory Request Card\nAppendix F – MDHBE HC Report Card 2020 1st PROOF\nAppendix G – HC Welcome Letter 2018\nAppendix H – MedicaidCard_Letter\nAppendix I – Special Needs Brochure\nAppendix J – MA Card Samples\nAppendix K – Letter 1 Medicare\nAppendix L – Letter 2 Medicare Outreach\nCancellation Notice Sample 3\nEligibility Determination Redacted Sample 2\nAdditional Verification Required Redacted Sample 1\nFulfillment RFP Questions\nP1) Fulfillment PreProposal Conference Summary\nA2b) Attachment E – Fulfillment Financial Proposal Form FY23\nA2a) Attachment E – Fulfillment Financial Proposal Form FY23\nA1) BPM028625 – MHBE Fulfillment Service – Amendment 1
URL:https://www.marylandhbe.com/event/mhbe-fulfillment-services-rfp-2/
CATEGORIES:Solicitations
END:VEVENT
END:VCALENDAR