BEGIN:VCALENDAR
VERSION:2.0
PRODID:-//Maryland Health Benefit Exchange - ECPv6.15.4//NONSGML v1.0//EN
CALSCALE:GREGORIAN
METHOD:PUBLISH
X-WR-CALNAME:Maryland Health Benefit Exchange
X-ORIGINAL-URL:https://www.marylandhbe.com
X-WR-CALDESC:Events for Maryland Health Benefit Exchange
REFRESH-INTERVAL;VALUE=DURATION:PT1H
X-Robots-Tag:noindex
X-PUBLISHED-TTL:PT1H
BEGIN:VTIMEZONE
TZID:America/New_York
BEGIN:DAYLIGHT
TZOFFSETFROM:-0500
TZOFFSETTO:-0400
TZNAME:EDT
DTSTART:20210314T070000
END:DAYLIGHT
BEGIN:STANDARD
TZOFFSETFROM:-0400
TZOFFSETTO:-0500
TZNAME:EST
DTSTART:20211107T060000
END:STANDARD
END:VTIMEZONE
BEGIN:VEVENT
DTSTART;TZID=America/New_York:20210630T080000
DTEND;TZID=America/New_York:20210805T110000
DTSTAMP:20260424T231617
CREATED:20210630T193130Z
LAST-MODIFIED:20210702T023201Z
UID:10000236-1625040000-1628161200@www.marylandhbe.com
SUMMARY:Cisco Next Generation Firewall and Implementation Services IFB
DESCRIPTION:Content: Solicitation # BPM024882\nTitle: Cisco Next Generation Firewall and Implementation Services IFB\nIssue Date: 06/30/2021\nClosing Date: 08/05/2021 at 11:00 a.m. EST\nCisco Next Generation Firewall and Implementation Services IFB
URL:https://www.marylandhbe.com/event/cisco-next-generation-firewall-and-implementation-services-ifb/
CATEGORIES:Solicitations
END:VEVENT
BEGIN:VEVENT
DTSTART;TZID=America/New_York:20210701T080000
DTEND;TZID=America/New_York:20210811T110000
DTSTAMP:20260424T231617
CREATED:20210701T194610Z
LAST-MODIFIED:20210701T194610Z
UID:10000238-1625126400-1628679600@www.marylandhbe.com
SUMMARY:Dell Precision 5560 Workstation\, Warranty and Support Services IFB
DESCRIPTION:Content: Solicitation # BPM024907\nTitle: Dell Precision 5560 Workstation\, Warranty and Support Services IFB\nIssue Date: 7/1/2021\nClosing Date: 08/11/2021 at 11:00 a.m. EST\nDell Precision 5560 IFB
URL:https://www.marylandhbe.com/event/dell-precision-5560-workstation-warranty-and-support-services-ifb/
CATEGORIES:Solicitations
END:VEVENT
BEGIN:VEVENT
DTSTART;TZID=America/New_York:20210701T080000
DTEND;TZID=America/New_York:20210818T110000
DTSTAMP:20260424T231617
CREATED:20210701T195239Z
LAST-MODIFIED:20210701T195239Z
UID:10000240-1625126400-1629284400@www.marylandhbe.com
SUMMARY:Tenable Subscription Renewal IFB
DESCRIPTION:Content: Solicitation # BPM024902\nTitle: Tenable Subscription Renewal IFB\nIssue Date: 7/01/2021\nClosing Date: 08/18/2021 at 11:00 a.m. EST\nTenable Subscription Renewal IFB
URL:https://www.marylandhbe.com/event/tenable-subscription-renewal-ifb-2/
CATEGORIES:Solicitations
END:VEVENT
BEGIN:VEVENT
DTSTART;TZID=America/New_York:20210709T080000
DTEND;TZID=America/New_York:20210811T110000
DTSTAMP:20260424T231617
CREATED:20210712T131152Z
LAST-MODIFIED:20210712T131152Z
UID:10000242-1625817600-1628679600@www.marylandhbe.com
SUMMARY:Granicus Communications Cloud Advanced Package\, Targeted Messaging & Services IFB
DESCRIPTION:Content: Solicitation # BPM024982\nTitle: Granicus Communications Cloud Advanced Package\, Targeted Messaging & Services IFB\nIssue Date: 7/9/2021\nClosing Date: 08/11/2021 at 11:00 a.m. EST\nGranicus IFB
URL:https://www.marylandhbe.com/event/granicus-communications-cloud-advanced-package-targeted-messaging-services-ifb/
CATEGORIES:Solicitations
END:VEVENT
BEGIN:VEVENT
DTSTART;TZID=America/New_York:20210723T080000
DTEND;TZID=America/New_York:20210903T110000
DTSTAMP:20260424T231617
CREATED:20210726T194032Z
LAST-MODIFIED:20210817T142214Z
UID:10000245-1627027200-1630666800@www.marylandhbe.com
SUMMARY:Corticon Maintenance Renewal IFB
DESCRIPTION:Content: Solicitation # BPM025176\nTitle: Corticon Maintenance Renewal IFB\nIssue Date: 07/23/2021\nClosing Date: 09/03/2021 at 11:00 a.m. EST\nAmendment 1 – Corticon Maintenance Renewal IFB\nCorticon Maintenance Renewal IFB
URL:https://www.marylandhbe.com/event/corticon-maintenance-renewal-ifb-3/
CATEGORIES:Solicitations
END:VEVENT
END:VCALENDAR