BEGIN:VCALENDAR
VERSION:2.0
PRODID:-//Maryland Health Benefit Exchange - ECPv6.15.4//NONSGML v1.0//EN
CALSCALE:GREGORIAN
METHOD:PUBLISH
X-ORIGINAL-URL:https://www.marylandhbe.com
X-WR-CALDESC:Events for Maryland Health Benefit Exchange
REFRESH-INTERVAL;VALUE=DURATION:PT1H
X-Robots-Tag:noindex
X-PUBLISHED-TTL:PT1H
BEGIN:VTIMEZONE
TZID:America/New_York
BEGIN:DAYLIGHT
TZOFFSETFROM:-0500
TZOFFSETTO:-0400
TZNAME:EDT
DTSTART:20210314T070000
END:DAYLIGHT
BEGIN:STANDARD
TZOFFSETFROM:-0400
TZOFFSETTO:-0500
TZNAME:EST
DTSTART:20211107T060000
END:STANDARD
BEGIN:DAYLIGHT
TZOFFSETFROM:-0500
TZOFFSETTO:-0400
TZNAME:EDT
DTSTART:20220313T070000
END:DAYLIGHT
BEGIN:STANDARD
TZOFFSETFROM:-0400
TZOFFSETTO:-0500
TZNAME:EST
DTSTART:20221106T060000
END:STANDARD
END:VTIMEZONE
BEGIN:VEVENT
DTSTART;TZID=America/New_York:20211122T080000
DTEND;TZID=America/New_York:20211228T110000
DTSTAMP:20260424T231914
CREATED:20211124T201237Z
LAST-MODIFIED:20211124T201634Z
UID:10000340-1637568000-1640689200@www.marylandhbe.com
SUMMARY:UiPath Robotic Process Automation Solution (RPA) IFB
DESCRIPTION:Content: Solicitation # BPM026846\nTitle: UiPath Robotic Process Automation Solution (RPA) IFB\nIssue Date: 11/22/2021\nClosing Date: 12/28/2021 at 11:00 a.m. EST\nUiPath IFB- BPM026846
URL:https://www.marylandhbe.com/event/uipath-robotic-process-automation-solution-rpa-ifb/
CATEGORIES:Solicitations
END:VEVENT
BEGIN:VEVENT
DTSTART;TZID=America/New_York:20211122T080000
DTEND;TZID=America/New_York:20211229T110000
DTSTAMP:20260424T231914
CREATED:20211124T200402Z
LAST-MODIFIED:20211124T201707Z
UID:10000339-1637568000-1640775600@www.marylandhbe.com
SUMMARY:Fortinet Subscription and Maintenance Renewal IFB
DESCRIPTION:Content: Solicitation # BPM026833\nTitle: Fortinet Subscription and Maintenance Renewal IFB\nIssue Date: 11/22/2021\nClosing Date: 12/29/2021 at 11:00 a.m. EST\nFortinet Renewal IFB – BPM026833
URL:https://www.marylandhbe.com/event/fortinet-subscription-and-maintenance-renewal-ifb/
CATEGORIES:Solicitations
END:VEVENT
BEGIN:VEVENT
DTSTART;TZID=America/New_York:20211123T080000
DTEND;TZID=America/New_York:20220104T110000
DTSTAMP:20260424T231914
CREATED:20211124T201601Z
LAST-MODIFIED:20221216T175452Z
UID:10000341-1637654400-1641294000@www.marylandhbe.com
SUMMARY:Veracode Products and Services IFB
DESCRIPTION:Content: Solicitation # BPM026846\nTitle: Veracode Products and Services IFB\nIssue Date: 11/23/2022\nClosing Date: 1/04/2022 at 11:00 a.m. EST\nVeracode Products IFB – BPM026859
URL:https://www.marylandhbe.com/event/veracode-products-and-services-ifb-3/
CATEGORIES:Solicitations
END:VEVENT
BEGIN:VEVENT
DTSTART;TZID=America/New_York:20211215T080000
DTEND;TZID=America/New_York:20220119T140000
DTSTAMP:20260424T231914
CREATED:20211217T142848Z
LAST-MODIFIED:20211217T142848Z
UID:10000342-1639555200-1642600800@www.marylandhbe.com
SUMMARY:RFI - Stand Alone Vision Benefits/Plans on MHC
DESCRIPTION:Content: Solicitation # BPM027229\nTitle: RFI – Stand Alone Vision Benefits/Plans on MHC\nIssue Date: 12/15/2021\nClosing Date: 1/19/2022 at 2:00 p.m. EST\nStand Alone Vision – BPM027229
URL:https://www.marylandhbe.com/event/rfi-stand-alone-vision-benefits-plans-on-mhc/
CATEGORIES:Solicitations
END:VEVENT
END:VCALENDAR