BEGIN:VCALENDAR
VERSION:2.0
PRODID:-//Maryland Health Benefit Exchange - ECPv6.15.4//NONSGML v1.0//EN
CALSCALE:GREGORIAN
METHOD:PUBLISH
X-ORIGINAL-URL:https://www.marylandhbe.com
X-WR-CALDESC:Events for Maryland Health Benefit Exchange
REFRESH-INTERVAL;VALUE=DURATION:PT1H
X-Robots-Tag:noindex
X-PUBLISHED-TTL:PT1H
BEGIN:VTIMEZONE
TZID:America/New_York
BEGIN:DAYLIGHT
TZOFFSETFROM:-0500
TZOFFSETTO:-0400
TZNAME:EDT
DTSTART:20210314T070000
END:DAYLIGHT
BEGIN:STANDARD
TZOFFSETFROM:-0400
TZOFFSETTO:-0500
TZNAME:EST
DTSTART:20211107T060000
END:STANDARD
END:VTIMEZONE
BEGIN:VEVENT
DTSTART;TZID=America/New_York:20211020T080000
DTEND;TZID=America/New_York:20211130T130000
DTSTAMP:20260424T214753
CREATED:20211026T152210Z
LAST-MODIFIED:20211026T152210Z
UID:10000336-1634716800-1638277200@www.marylandhbe.com
SUMMARY:Independent Assessor for MHBE IT's Security Review RFP
DESCRIPTION:Content: Solicitation # BPM026357\nTitle: Independent Assessor for MHBE IT’s Security Review RFP\nIssue Date: 10/20/2021\nClosing Date: 11/30/2021 at 1:00 p.m. EST\nIndependent Assessor RFP # BPM026357\nATTACHMENT D – Financial Proposal Form \n 
URL:https://www.marylandhbe.com/event/independent-assessor-for-mhbe-its-security-review-rfp/
CATEGORIES:Solicitations
END:VEVENT
BEGIN:VEVENT
DTSTART;TZID=America/New_York:20211110T080000
DTEND;TZID=America/New_York:20211130T130000
DTSTAMP:20260424T214753
CREATED:20211112T192245Z
LAST-MODIFIED:20211124T200634Z
UID:10000338-1636531200-1638277200@www.marylandhbe.com
SUMMARY:Re-Proposal Notes\, Questions and Responses - Independent Assessor for MHBE IT's Security Review RFP
DESCRIPTION:Content: Solicitation #BPM026357\nTitle: Pre-Proposal Notes\, Questions and Responses\nIssue Date: 11/10/2021\nClosing Date: 11/30/2021 at 1:00 p.m. EST\nPre-Proposal Conference Notes BPM026357\nAdditonal Questions – Independent Assessor RFP
URL:https://www.marylandhbe.com/event/re-proposal-notes-questions-and-responses-independent-assessor-for-mhbe-its-security-review-rfp/
CATEGORIES:Solicitations
END:VEVENT
END:VCALENDAR