BEGIN:VCALENDAR
VERSION:2.0
PRODID:-//Maryland Health Benefit Exchange - ECPv6.15.4//NONSGML v1.0//EN
CALSCALE:GREGORIAN
METHOD:PUBLISH
X-ORIGINAL-URL:https://www.marylandhbe.com
X-WR-CALDESC:Events for Maryland Health Benefit Exchange
REFRESH-INTERVAL;VALUE=DURATION:PT1H
X-Robots-Tag:noindex
X-PUBLISHED-TTL:PT1H
BEGIN:VTIMEZONE
TZID:America/New_York
BEGIN:DAYLIGHT
TZOFFSETFROM:-0500
TZOFFSETTO:-0400
TZNAME:EDT
DTSTART:20220313T070000
END:DAYLIGHT
BEGIN:STANDARD
TZOFFSETFROM:-0400
TZOFFSETTO:-0500
TZNAME:EST
DTSTART:20221106T060000
END:STANDARD
END:VTIMEZONE
BEGIN:VEVENT
DTSTART;TZID=America/New_York:20220331T080000
DTEND;TZID=America/New_York:20220502T110000
DTSTAMP:20260425T205817
CREATED:20220401T144305Z
LAST-MODIFIED:20220428T202146Z
UID:10000363-1648713600-1651489200@www.marylandhbe.com
SUMMARY:MHBE Actuarial Support Services RFP
DESCRIPTION:Content: Solicitation # BPM028923\nTitle: MHBE Actuarial Support Services RFP\nIssue Date: 3/31/2022\nClosing Date: 5/2/2022 at 11:00 a.m. EST\nMHBE Actuarial Support Services RFP\nAttachment B ‐ Financial Proposal (PDF)\nAttachment B ‐ Financial Proposal (XLSX)\nQuestions-Responses 1\nPre Proposal Conference Summary\nQ2) Questions-Responses 2\nA1) Amendment 1
URL:https://www.marylandhbe.com/event/mhbe-actuarial-support-services-rfp/
CATEGORIES:Solicitations
END:VEVENT
BEGIN:VEVENT
DTSTART;TZID=America/New_York:20220413T080000
DTEND;TZID=America/New_York:20220513T120000
DTSTAMP:20260425T205817
CREATED:20220419T195831Z
LAST-MODIFIED:20220429T184643Z
UID:10000364-1649836800-1652443200@www.marylandhbe.com
SUMMARY:Apple Computers and Accessories IFB
DESCRIPTION:Content: Solicitation # BPM029210\nTitle: Apple Computers and Accessories IFB\nIssue Date: 4/13/2022\nClosing Date: 5/13/2022 at 12:00 p.m. EST\nApple Computers and Accessories IFB\nQ & A #1
URL:https://www.marylandhbe.com/event/apple-computers-and-accessories-ifb-4/
CATEGORIES:Solicitations
END:VEVENT
BEGIN:VEVENT
DTSTART;TZID=America/New_York:20220429T080000
DTEND;TZID=America/New_York:20220531T110000
DTSTAMP:20260425T205817
CREATED:20220502T174223Z
LAST-MODIFIED:20220502T174223Z
UID:10000367-1651219200-1653994800@www.marylandhbe.com
SUMMARY:SailPoint IdentityIQ Annual Support for Additional Production Instance IFB
DESCRIPTION:Content: Solicitation # BPM029325\nTitle: SailPoint IdentityIQ Annual Support for Additional Production Instance IFB\nIssue Date: 4/29/2022\nClosing Date: 5/31/2022 at 11:00 a.m. EST\nSailPoint IdentityIQ Additional Production Instance IFB
URL:https://www.marylandhbe.com/event/sailpoint-identityiq-annual-support-for-additional-production-instance-ifb/
CATEGORIES:Solicitations
END:VEVENT
BEGIN:VEVENT
DTSTART;TZID=America/New_York:20220429T080000
DTEND;TZID=America/New_York:20220531T120000
DTSTAMP:20260425T205817
CREATED:20220429T185743Z
LAST-MODIFIED:20220509T150800Z
UID:10000365-1651219200-1653998400@www.marylandhbe.com
SUMMARY:MongoDB Enterprise Subscription IFB
DESCRIPTION:Content: Solicitation # BPM029324\nTitle: MongoDB Enterprise Subscription IFB\nIssue Date: 4/29/2022\nClosing Date: 5/31/2022 at 12:00 p.m. EST\nMongoDB Enterprise Subscription IFB\nMongoDB Q&A 1
URL:https://www.marylandhbe.com/event/mongodb-enterprise-subscription-ifb/
CATEGORIES:Solicitations
END:VEVENT
BEGIN:VEVENT
DTSTART;TZID=America/New_York:20220502T080000
DTEND;TZID=America/New_York:20220602T120000
DTSTAMP:20260425T205817
CREATED:20220502T172859Z
LAST-MODIFIED:20220502T174241Z
UID:10000366-1651478400-1654171200@www.marylandhbe.com
SUMMARY:EDBPostGres Subscription IFB
DESCRIPTION:Content: Solicitation # BPM029366\nTitle: EDBPostGres Subscription IFB\nIssue Date: 5/2/2022\nClosing Date: 6/2/2022 at 12:00 p.m. EST\nEDBPostGres Subscription IFB
URL:https://www.marylandhbe.com/event/edbpostgres-subscription-ifb/
CATEGORIES:Solicitations
END:VEVENT
BEGIN:VEVENT
DTSTART;TZID=America/New_York:20220503T080000
DTEND;TZID=America/New_York:20220602T110000
DTSTAMP:20260425T205817
CREATED:20220504T174753Z
LAST-MODIFIED:20220504T174753Z
UID:10000368-1651564800-1654167600@www.marylandhbe.com
SUMMARY:Red Hat Subscription for MHBE's Disaster Recovery (DR) Environment IFB
DESCRIPTION:Content: Solicitation # BPM029329\nTitle: Red Hat Subscription for MHBE’s Disaster Recovery (DR) Environment IFB\nIssue Date: 5/03/2022\nClosing Date: 6/02/2022 at 11:00 a.m. EST\nRed Hat Subscription IFB
URL:https://www.marylandhbe.com/event/red-hat-subscription-for-mhbes-disaster-recovery-dr-environment-ifb/
CATEGORIES:Solicitations
END:VEVENT
BEGIN:VEVENT
DTSTART;TZID=America/New_York:20220506T080000
DTEND;TZID=America/New_York:20220607T130000
DTSTAMP:20260425T205817
CREATED:20220509T150531Z
LAST-MODIFIED:20220513T195526Z
UID:10000369-1651824000-1654606800@www.marylandhbe.com
SUMMARY:Scanbot SDK License Agreement IFB
DESCRIPTION:Content: Solicitation # BPM029244\nTitle: Scanbot SDK License Agreement IFB\nIssue Date: 5/6/2022\nClosing Date: 6/07/2022 at 1:00 p.m. EST\nScanbot SDK License Agreement IFB \n 
URL:https://www.marylandhbe.com/event/scanbot-sdk-license-agreement-ifb/
CATEGORIES:Solicitations
END:VEVENT
BEGIN:VEVENT
DTSTART;TZID=America/New_York:20220512T080000
DTEND;TZID=America/New_York:20220613T110000
DTSTAMP:20260425T205817
CREATED:20220525T023534Z
LAST-MODIFIED:20220526T190337Z
UID:10000376-1652342400-1655118000@www.marylandhbe.com
SUMMARY:Zoom Phone Subscription IFB
DESCRIPTION:Content: Solicitation # BPM029206\nTitle: Zoom Phone Subscription IFB\nIssue Date: 5/12/2022\nClosing Date: 6/13/2022 at 11:00 a.m. EST\nZoom Phone Subscription IFB
URL:https://www.marylandhbe.com/event/zoom-phone-subscription-ifb-revised/
CATEGORIES:Solicitations
END:VEVENT
BEGIN:VEVENT
DTSTART;TZID=America/New_York:20220513T080000
DTEND;TZID=America/New_York:20220614T120000
DTSTAMP:20260425T205817
CREATED:20220513T195458Z
LAST-MODIFIED:20220520T154648Z
UID:10000370-1652428800-1655208000@www.marylandhbe.com
SUMMARY:Dell Precision 5570 Computers and Accessories
DESCRIPTION:Content: Solicitation # BPM029668\nTitle: Dell Precision 5570 Computers and Accessories\nIssue Date: 5/13/2022\nClosing Date: 6/14/2022 at 12:00 p.m. EST\nDell Precision 5570 Computers and Accessories IFB
URL:https://www.marylandhbe.com/event/dell-precision-5570-computers-and-accessories/
CATEGORIES:Solicitations
END:VEVENT
BEGIN:VEVENT
DTSTART;TZID=America/New_York:20220520T080000
DTEND;TZID=America/New_York:20220622T110000
DTSTAMP:20260425T205817
CREATED:20220520T161209Z
LAST-MODIFIED:20220520T161209Z
UID:10000372-1653033600-1655895600@www.marylandhbe.com
SUMMARY:Informatica IDQ Subscription IFB
DESCRIPTION:Content: Solicitation # BPM029234\nTitle: Informatica IDQ Subscription IFB\nIssue Date: 5/20/2022\nClosing Date: 6/22/2022 at 11:00 a.m. EST\nInformatica IDQ Subscription IFB
URL:https://www.marylandhbe.com/event/informatica-idq-subscription-ifb/
CATEGORIES:Solicitations
END:VEVENT
BEGIN:VEVENT
DTSTART;TZID=America/New_York:20220520T080000
DTEND;TZID=America/New_York:20220622T130000
DTSTAMP:20260425T205817
CREATED:20220520T161028Z
LAST-MODIFIED:20220520T161028Z
UID:10000371-1653033600-1655902800@www.marylandhbe.com
SUMMARY:Informatica PowerCenter Subscription IFB
DESCRIPTION:Content: Solicitation # BPM029373\nTitle: Informatica PowerCenter Subscription IFB\nIssue Date: 5/20/2022\nClosing Date: 6/22/2022 at 1:00 p.m. EST\nInformatica PowerCenter Subscription IFB BPM029373
URL:https://www.marylandhbe.com/event/informatica-powercenter-subscription-ifb/
CATEGORIES:Solicitations
END:VEVENT
BEGIN:VEVENT
DTSTART;TZID=America/New_York:20220520T080000
DTEND;TZID=America/New_York:20220623T110000
DTSTAMP:20260425T205817
CREATED:20220523T163620Z
LAST-MODIFIED:20220523T163620Z
UID:10000374-1653033600-1655982000@www.marylandhbe.com
SUMMARY:Kong Konnect Enterprise Subscription IFB
DESCRIPTION:Content: Solicitation # BPM029602\nTitle: Kong Konnect Enterprise Subscription IFB\nIssue Date: 5/20/2022\nClosing Date: 6/23/2022 at 11:00 a.m. EST\nKong Konnect Enterprise Subscription IFB
URL:https://www.marylandhbe.com/event/kong-konnect-enterprise-subscription-ifb/
CATEGORIES:Solicitations
END:VEVENT
BEGIN:VEVENT
DTSTART;TZID=America/New_York:20220520T080000
DTEND;TZID=America/New_York:20220623T130000
DTSTAMP:20260425T205817
CREATED:20220526T132720Z
LAST-MODIFIED:20220526T132720Z
UID:10000377-1653033600-1655989200@www.marylandhbe.com
SUMMARY:Corticon Server + Perpetual License IFB
DESCRIPTION:Content: Solicitation # BPM029405\nTitle: Corticon Server + Perpetual License IFB\nIssue Date: 5/20/2022\nClosing Date: 6/23/2022 at 01:00 p.m. EST\nCorticon Server + Perpetual License IFB
URL:https://www.marylandhbe.com/event/corticon-server-perpetual-license-ifb-2/
CATEGORIES:Solicitations
END:VEVENT
BEGIN:VEVENT
DTSTART;TZID=America/New_York:20220520T080000
DTEND;TZID=America/New_York:20220623T143000
DTSTAMP:20260425T205817
CREATED:20220523T163139Z
LAST-MODIFIED:20220523T163139Z
UID:10000373-1653033600-1655994600@www.marylandhbe.com
SUMMARY:ServiceNow Subscription IFB
DESCRIPTION:Content: Solicitation # BPM029924\nTitle: ServiceNow Subscription IFB\nIssue Date: 5/20/2022\nClosing Date: 6/23/2022 at 02:30 p.m. EST\nServiceNow Subscription IFB
URL:https://www.marylandhbe.com/event/servicenow-subscription-ifb/
CATEGORIES:Solicitations
END:VEVENT
BEGIN:VEVENT
DTSTART;TZID=America/New_York:20220524T080000
DTEND;TZID=America/New_York:20220624T110000
DTSTAMP:20260425T205817
CREATED:20220525T023016Z
LAST-MODIFIED:20220525T023016Z
UID:10000375-1653379200-1656068400@www.marylandhbe.com
SUMMARY:Adobe Captivate Prime Renewal Subscription IFB
DESCRIPTION:Content: Solicitation # BPM029949\nTitle: Adobe Captivate Prime Renewal Subscription IFB\nIssue Date: 5/24/2022\nClosing Date: 6/24/2022 at 11:00 a.m. EST\nAdobe Captivate Prime Renewal Subscription IFB
URL:https://www.marylandhbe.com/event/adobe-captivate-prime-renewal-subscription-ifb/
CATEGORIES:Solicitations
END:VEVENT
END:VCALENDAR