BEGIN:VCALENDAR
VERSION:2.0
PRODID:-//Maryland Health Benefit Exchange - ECPv6.15.4//NONSGML v1.0//EN
CALSCALE:GREGORIAN
METHOD:PUBLISH
X-ORIGINAL-URL:https://www.marylandhbe.com
X-WR-CALDESC:Events for Maryland Health Benefit Exchange
REFRESH-INTERVAL;VALUE=DURATION:PT1H
X-Robots-Tag:noindex
X-PUBLISHED-TTL:PT1H
BEGIN:VTIMEZONE
TZID:America/New_York
BEGIN:DAYLIGHT
TZOFFSETFROM:-0500
TZOFFSETTO:-0400
TZNAME:EDT
DTSTART:20240310T070000
END:DAYLIGHT
BEGIN:STANDARD
TZOFFSETFROM:-0400
TZOFFSETTO:-0500
TZNAME:EST
DTSTART:20241103T060000
END:STANDARD
END:VTIMEZONE
BEGIN:VEVENT
DTSTART;TZID=America/New_York:20240426T120000
DTEND;TZID=America/New_York:20240426T130000
DTSTAMP:20260425T175146
CREATED:20240402T154257Z
LAST-MODIFIED:20240402T154257Z
UID:10000474-1714132800-1714136400@www.marylandhbe.com
SUMMARY:Health Policy Speaker Series: Massachusetts Health Connector’s “Sludge Audit” - Evaluation of Administrative Burdens Faced by Consumers Enrolling in Health Coverage
DESCRIPTION:Health Policy Speaker Series (Virtual event) \nDate: Friday\, April 26\, 2024\nTime: 12:00 pm – 1:00 pm\nLocation: Virtual (see virtual meeting link below) \nEvent Details: The speaker series is an opportunity to learn from experts and engage in discussion on a variety of ongoing or emerging policy issues relevant to our work at the Exchange. \nTopic: Massachusetts “Sludge Audit” – Evaluation of Administrative Burdens Faced by Consumers Enrolling in Health Coverage \nGuest Speaker:  Marissa Woltmann – Chief of Policy at the Massachusetts Health Connector \nVirtual Meeting Link (Google Meet):\nMHBE Health Policy Speaker Series\nFriday\, April 26 · 12:00 – 1:00pm\nTime zone: America/New York\nGoogle Meet joining info\n• Video call link: https://meet.google.com/irj-tvws-ofx\n• Or dial: (US) +1 401-552-4740 PIN: 241 602 676#\n• More phone numbers: https://tel.meet/irj-tvws-ofx?pin=3850832686387 \nContact Amelia Marcus\, amelia.marcus@maryland.gov with any questions
URL:https://www.marylandhbe.com/event/health-policy-speaker-series-massachusetts-health-connectors-sludge-audit-evaluation-of-administrative-burdens-faced-by-consumers-enrolling-in-health-coverage/
CATEGORIES:Board Meeting
ORGANIZER;CN="Amelia Marcus":MAILTO:amelia.marcus@maryland.gov
END:VEVENT
END:VCALENDAR