BEGIN:VCALENDAR
VERSION:2.0
PRODID:-//Maryland Health Benefit Exchange - ECPv6.15.4//NONSGML v1.0//EN
CALSCALE:GREGORIAN
METHOD:PUBLISH
X-ORIGINAL-URL:https://www.marylandhbe.com
X-WR-CALDESC:Events for Maryland Health Benefit Exchange
REFRESH-INTERVAL;VALUE=DURATION:PT1H
X-Robots-Tag:noindex
X-PUBLISHED-TTL:PT1H
BEGIN:VTIMEZONE
TZID:America/New_York
BEGIN:DAYLIGHT
TZOFFSETFROM:-0500
TZOFFSETTO:-0400
TZNAME:EDT
DTSTART:20250309T070000
END:DAYLIGHT
BEGIN:STANDARD
TZOFFSETFROM:-0400
TZOFFSETTO:-0500
TZNAME:EST
DTSTART:20251102T060000
END:STANDARD
END:VTIMEZONE
BEGIN:VEVENT
DTSTART;TZID=America/New_York:20250701T080000
DTEND;TZID=America/New_York:20250814T110000
DTSTAMP:20260422T185753
CREATED:20250630T142454Z
LAST-MODIFIED:20250630T142507Z
UID:10000554-1751356800-1755169200@www.marylandhbe.com
SUMMARY:Amazon Web Services Renewal RFQ
DESCRIPTION:Solicitation # BPM049069\nTitle: Amazon Web Services RFQ\nIssue Date: 7/1/2025\nClosing Date: 8/14/2025 at 11:00 a.m. EST\nAmazon Web Services Renewal RFQ
URL:https://www.marylandhbe.com/event/amazon-web-services-renewal-rfq/
CATEGORIES:Solicitations
END:VEVENT
BEGIN:VEVENT
DTSTART;TZID=America/New_York:20250724T080000
DTEND;TZID=America/New_York:20250825T110000
DTSTAMP:20260422T185753
CREATED:20250724T191416Z
LAST-MODIFIED:20250724T191529Z
UID:10000558-1753344000-1756119600@www.marylandhbe.com
SUMMARY:Granicus Communications Cloud Advanced Package\, Targeted Messaging & Services IFB
DESCRIPTION:Solicitation # BPM052075\nTitle: Granicus Communications Cloud Advanced Package\, Targeted Messaging & Services IFB\nIssue Date: 7/24/2025\nClosing Date: 8/25/2025 at 11:00 a.m. EST\nGranicus Communications Cloud Advanced Package\, Targeted Messaging & Services IFB\nPre-Bid Conference Response Form
URL:https://www.marylandhbe.com/event/granicus-communications-cloud-advanced-package-targeted-messaging-services-ifb-2/
CATEGORIES:Solicitations
END:VEVENT
BEGIN:VEVENT
DTSTART;TZID=America/New_York:20250724T080000
DTEND;TZID=America/New_York:20250825T133000
DTSTAMP:20260422T185753
CREATED:20250724T190457Z
LAST-MODIFIED:20250724T190542Z
UID:10000555-1753344000-1756128600@www.marylandhbe.com
SUMMARY:JAVA SE Subscription Renewal IFB
DESCRIPTION:Solicitation # BPM052117\nTitle: JAVA SE Subscription Renewal IFB\nIssue Date: 7/24/2025\nClosing Date: 8/25/2025 at 1:30 p.m. EST\nJAVA SE Subscription Renewal IFB\nPre-Bid Conference Response Form
URL:https://www.marylandhbe.com/event/java-se-subscription-renewal-ifb/
CATEGORIES:Solicitations
END:VEVENT
BEGIN:VEVENT
DTSTART;TZID=America/New_York:20250724T080000
DTEND;TZID=America/New_York:20250826T110000
DTSTAMP:20260422T185753
CREATED:20250724T190725Z
LAST-MODIFIED:20250724T190922Z
UID:10000556-1753344000-1756206000@www.marylandhbe.com
SUMMARY:Tenable Subscription Renewal IFB
DESCRIPTION:Solicitation # BPM052118\nTitle: Tenable Subscription Renewal IFB\nIssue Date: 7/24/2025\nClosing Date: 8/26/2025 at 11:00 a.m. EST\nTenable Subscription Renewal IFB\nPre-Bid Conference Response Form
URL:https://www.marylandhbe.com/event/tenable-subscription-renewal-ifb-3/
CATEGORIES:Solicitations
END:VEVENT
BEGIN:VEVENT
DTSTART;TZID=America/New_York:20250724T080000
DTEND;TZID=America/New_York:20250827T110000
DTSTAMP:20260422T185753
CREATED:20250724T191221Z
LAST-MODIFIED:20250724T191221Z
UID:10000557-1753344000-1756292400@www.marylandhbe.com
SUMMARY:ORCA Subscription Renewal IFB
DESCRIPTION:Solicitation # BPM052076\nTitle: ORCA Subscription Renewal IFB\nIssue Date: 7/24/2025\nClosing Date: 8/27/2025 at 11:00 a.m. EST\nORCA Subscription Renewal IFB\nPre-Bid Conference Response Form
URL:https://www.marylandhbe.com/event/orca-subscription-renewal-ifb-2/
CATEGORIES:Solicitations
END:VEVENT
END:VCALENDAR