BEGIN:VCALENDAR
VERSION:2.0
PRODID:-//Maryland Health Benefit Exchange - ECPv6.15.4//NONSGML v1.0//EN
CALSCALE:GREGORIAN
METHOD:PUBLISH
X-WR-CALNAME:Maryland Health Benefit Exchange
X-ORIGINAL-URL:https://www.marylandhbe.com
X-WR-CALDESC:Events for Maryland Health Benefit Exchange
REFRESH-INTERVAL;VALUE=DURATION:PT1H
X-Robots-Tag:noindex
X-PUBLISHED-TTL:PT1H
BEGIN:VTIMEZONE
TZID:America/New_York
BEGIN:DAYLIGHT
TZOFFSETFROM:-0500
TZOFFSETTO:-0400
TZNAME:EDT
DTSTART:20250309T070000
END:DAYLIGHT
BEGIN:STANDARD
TZOFFSETFROM:-0400
TZOFFSETTO:-0500
TZNAME:EST
DTSTART:20251102T060000
END:STANDARD
END:VTIMEZONE
BEGIN:VEVENT
DTSTART;TZID=America/New_York:20250114T080000
DTEND;TZID=America/New_York:20250214T110000
DTSTAMP:20260421T210024
CREATED:20250116T162551Z
LAST-MODIFIED:20250116T162934Z
UID:10000522-1736841600-1739530800@www.marylandhbe.com
SUMMARY:Zscaler Subscription Renewal IFB
DESCRIPTION:Solicitation # BPM047974\nTitle: Zscaler Subscription Renewal IFB\nIssue Date: 1/14/2025\nClosing Date: 2/14/2025 at 11:00 a.m. EST\nZscaler Subscription Renewal IFB\nPre-Bid Conference Response Form
URL:https://www.marylandhbe.com/event/zscaler-subscription-renewal-ifb/
CATEGORIES:Solicitations
END:VEVENT
BEGIN:VEVENT
DTSTART;TZID=America/New_York:20250115T080000
DTEND;TZID=America/New_York:20250217T110000
DTSTAMP:20260421T210024
CREATED:20250116T165027Z
LAST-MODIFIED:20250116T165343Z
UID:10000523-1736928000-1739790000@www.marylandhbe.com
SUMMARY:Camunda Subscription Renewal IFB
DESCRIPTION:Solicitation # BPM047973\nTitle: Camunda Subscription Renewal IFB\nIssue Date: 1/15/2025\nClosing Date: 2/18/2025 at 11:00 a.m. EST\nCamunda Subscription Renewal IFB\nPre-Bid Conference Response Form
URL:https://www.marylandhbe.com/event/camunda-subscription-renewal-ifb/
CATEGORIES:Solicitations
END:VEVENT
BEGIN:VEVENT
DTSTART;TZID=America/New_York:20250115T080000
DTEND;TZID=America/New_York:20250218T120000
DTSTAMP:20260421T210024
CREATED:20250116T160721Z
LAST-MODIFIED:20250116T161247Z
UID:10000521-1736928000-1739880000@www.marylandhbe.com
SUMMARY:Databricks Subscription Renewal IFB
DESCRIPTION:Solicitation # BPM047972\nTitle: Databricks Subscription Renewal IFB\nIssue Date: 1/15/2025\nClosing Date: 2/18/2025 at 12:00 p.m. EST\nDatabricks Subscription Renewal IFB\nPre-Bid Conference Response Form
URL:https://www.marylandhbe.com/event/databricks-subscription-renewal-ifb/
CATEGORIES:Solicitations
END:VEVENT
END:VCALENDAR