BEGIN:VCALENDAR
VERSION:2.0
PRODID:-//Maryland Health Benefit Exchange - ECPv6.15.4//NONSGML v1.0//EN
CALSCALE:GREGORIAN
METHOD:PUBLISH
X-ORIGINAL-URL:https://www.marylandhbe.com
X-WR-CALDESC:Events for Maryland Health Benefit Exchange
REFRESH-INTERVAL;VALUE=DURATION:PT1H
X-Robots-Tag:noindex
X-PUBLISHED-TTL:PT1H
BEGIN:VTIMEZONE
TZID:America/New_York
BEGIN:DAYLIGHT
TZOFFSETFROM:-0500
TZOFFSETTO:-0400
TZNAME:EDT
DTSTART:20240310T070000
END:DAYLIGHT
BEGIN:STANDARD
TZOFFSETFROM:-0400
TZOFFSETTO:-0500
TZNAME:EST
DTSTART:20241103T060000
END:STANDARD
END:VTIMEZONE
BEGIN:VEVENT
DTSTART;TZID=America/New_York:20240614T080000
DTEND;TZID=America/New_York:20240715T110000
DTSTAMP:20260424T120825
CREATED:20240614T181941Z
LAST-MODIFIED:20240614T182208Z
UID:10000488-1718352000-1721041200@www.marylandhbe.com
SUMMARY:ServiceNow Subscription Renewal
DESCRIPTION:Solicitation # BPM044826\nTitle: ServiceNow Subscription Renewal IFB\nIssue Date: 6/14/2024\nClosing Date: 7/15/2024 at 11:00 a.m. EST\nServiceNow Subscription Renewal IFB\nPre-Bid Conference Response Form
URL:https://www.marylandhbe.com/event/servicenow-subscription-renewal-2/
CATEGORIES:Solicitations
END:VEVENT
BEGIN:VEVENT
DTSTART;TZID=America/New_York:20240614T080000
DTEND;TZID=America/New_York:20240715T120000
DTSTAMP:20260424T120825
CREATED:20240614T200628Z
LAST-MODIFIED:20240614T200852Z
UID:10000489-1718352000-1721044800@www.marylandhbe.com
SUMMARY:Informatica Power Center Subscription Renewal
DESCRIPTION:Solicitation # BPM044622\nTitle: Informatica Power Center Subscription Renewal IFB\nIssue Date: 6/14/2024\nClosing Date: 7/15/2024 at 12:00 p.m. EST\nInformatica Power Center Subscription Renewal IFB\nPre-Bid Conference Response Form
URL:https://www.marylandhbe.com/event/informatica-power-center-subscription-renewal/
CATEGORIES:Solicitations
END:VEVENT
BEGIN:VEVENT
DTSTART;TZID=America/New_York:20240617T080000
DTEND;TZID=America/New_York:20240726T100000
DTSTAMP:20260424T120825
CREATED:20240618T142833Z
LAST-MODIFIED:20240715T201704Z
UID:10000490-1718611200-1721988000@www.marylandhbe.com
SUMMARY:Small Business Premium Aggregation and Billing Solution
DESCRIPTION:Solicitation # BPM043384\nTitle: MHBE- Small Business Premium Aggregation and Billing Solution\nIssue Date: 6/17/2024\nClosing Date: 7/26/2024 at 10:00 a.m. EST\nMHBE- Small Business Premium Aggregation and Billing Solution RFP\nRFP Exhibit A Solutions Requirements\n2024 Financial Price Sheet – Small Business\nQuestions and Answers #1\nQuestions and Answers #2
URL:https://www.marylandhbe.com/event/small-business-premium-aggregation-and-billing-solution/
CATEGORIES:Solicitations
END:VEVENT
BEGIN:VEVENT
DTSTART;TZID=America/New_York:20240617T080000
DTEND;TZID=America/New_York:20240726T100000
DTSTAMP:20260424T120825
CREATED:20240703T174437Z
LAST-MODIFIED:20240703T174729Z
UID:10000494-1718611200-1721988000@www.marylandhbe.com
SUMMARY:Amendment # 1 - Small Business Premium Aggregation and Billing Solutions RFR
DESCRIPTION:Solicitation # BPM043384\nTitle: Small Business Premium Aggregation and Billing Solutions RFR\nIssue Date: 6/17/2024\nClosing Date: 7/26/2024 at 10:00 a.m. EST\nAmendment # 1 – Small Business Premium Aggregation and Billing Solutions RFR
URL:https://www.marylandhbe.com/event/amendment-1-small-business-premium-aggregation-and-billing-solutions-rfr/
CATEGORIES:Solicitations
END:VEVENT
BEGIN:VEVENT
DTSTART;TZID=America/New_York:20240627T080000
DTEND;TZID=America/New_York:20240715T120000
DTSTAMP:20260424T120825
CREATED:20240627T171109Z
LAST-MODIFIED:20240627T171710Z
UID:10000493-1719475200-1721044800@www.marylandhbe.com
SUMMARY:Amendment # 1 - Informatica PowerCenter Maintenance Renewal IFB
DESCRIPTION:Solicitation # BPM044622\nTitle: Informatica PowerCenter Maintenance Renewal IFB\nIssue Date: 6/27/2024\nClosing Date: 7/15/2024 at 12:00 p.m. EST\nAmendment # 1 – Informatica PowerCenter Maintenance Renewal IFB\nInformatica PowerCenter Maintenance Renewal IFB
URL:https://www.marylandhbe.com/event/amendment-1-informatica-powercenter-maintenance-renewal-ifb/
CATEGORIES:Solicitations
END:VEVENT
BEGIN:VEVENT
DTSTART;TZID=America/New_York:20240711T080000
DTEND;TZID=America/New_York:20240812T110000
DTSTAMP:20260424T120825
CREATED:20240710T204219Z
LAST-MODIFIED:20240710T204615Z
UID:10000496-1720684800-1723460400@www.marylandhbe.com
SUMMARY:Adobe Learning Manager Subscription IFB
DESCRIPTION:Solicitation # BPM045037\nTitle: Adobe Learning Manager Subscription IFB\nIssue Date: 7/11/2024\nClosing Date: 8/12/2024 at 11:00 a.m. EST\nAdobe Learning Manager Subscription IFB\nPre-Bid Conference Response Form
URL:https://www.marylandhbe.com/event/adobe-learning-manager-subscription/
CATEGORIES:Solicitations
END:VEVENT
BEGIN:VEVENT
DTSTART;TZID=America/New_York:20240711T080000
DTEND;TZID=America/New_York:20240812T110000
DTSTAMP:20260424T120825
CREATED:20240711T155949Z
LAST-MODIFIED:20240725T182132Z
UID:10000497-1720684800-1723460400@www.marylandhbe.com
SUMMARY:OwnBack Up Subscription Renewal IFB
DESCRIPTION:Solicitation # BPM044653\nTitle: OwnBack Up Subscription Renewal IFB\nIssue Date: 7/11/2024\nClosing Date: 8/12/2024 at 11:00 a.m. EST\nOwnBack Up Subscription Renewal IFB\nPre-Bid Conference Response Form
URL:https://www.marylandhbe.com/event/ownback-up-subscription-renewal-ifb/
CATEGORIES:Solicitations
END:VEVENT
END:VCALENDAR